BEGIN:VCALENDAR
VERSION:2.0
PRODID:-//Drupal//recurring_events_ical//2.0//EN
BEGIN:VEVENT
UID:97a4de4d-c4dc-41d0-a1ed-431795473b0d@events.stage.louisville.edu
DTSTAMP:20260424T180053Z
DTSTART:20280418T110000Z
DTEND:20280418T110000Z
SUMMARY:Testing Services
CONTACT:Tammy Jones-Scrogham\, 502-852-6606\, email:testing@louisville.edu
DESCRIPTION:Will you please add Testing Services as part of the offices lis
 ted in Davidson Hall?  Thank you!
URL:https://events.stage.louisville.edu/events/testing-services/2028-04-18
END:VEVENT
END:VCALENDAR