BEGIN:VCALENDAR
VERSION:2.0
PRODID:-//Drupal//recurring_events_ical//2.0//EN
BEGIN:VEVENT
UID:0b3cd6ad-4daf-487c-a733-29e7b76010e9@events.stage.louisville.edu
DTSTAMP:20260424T180048Z
DTSTART:20280420T110000Z
DTEND:20280420T110000Z
SUMMARY:Testing Services
CONTACT:Tammy Jones-Scrogham\, 502-852-6606\, email:testing@louisville.edu
DESCRIPTION:Will you please add Testing Services as part of the offices lis
 ted in Davidson Hall?  Thank you!
URL:https://events.stage.louisville.edu/events/testing-services/2028-04-20
END:VEVENT
END:VCALENDAR