BEGIN:VCALENDAR
VERSION:2.0
PRODID:-//Drupal//recurring_events_ical//2.0//EN
BEGIN:VEVENT
UID:ac4eda09-a5a2-4ce0-8bcf-0cb7f7ce5c88@events.stage.louisville.edu
DTSTAMP:20260424T180048Z
DTSTART:20280424T110000Z
DTEND:20280424T110000Z
SUMMARY:Testing Services
CONTACT:Tammy Jones-Scrogham\, 502-852-6606\, email:testing@louisville.edu
DESCRIPTION:Will you please add Testing Services as part of the offices lis
 ted in Davidson Hall?  Thank you!
URL:https://events.stage.louisville.edu/events/testing-services/2028-04-24
END:VEVENT
END:VCALENDAR