BEGIN:VCALENDAR
VERSION:2.0
PRODID:-//Drupal//recurring_events_ical//2.0//EN
BEGIN:VEVENT
UID:368c7341-1b94-48d7-9ae9-4e151e9b7ea9@events.stage.louisville.edu
DTSTAMP:20260424T162133Z
DTSTART:20280501T110000Z
DTEND:20280501T110000Z
SUMMARY:Testing Services
CONTACT:Tammy Jones-Scrogham\, 502-852-6606\, email:testing@louisville.edu
DESCRIPTION:Will you please add Testing Services as part of the offices lis
 ted in Davidson Hall?  Thank you!
URL:https://events.stage.louisville.edu/events/testing-services/2028-05-01
END:VEVENT
END:VCALENDAR