BEGIN:VCALENDAR
VERSION:2.0
PRODID:-//Drupal//recurring_events_ical//2.0//EN
BEGIN:VEVENT
UID:ae7d7e55-2003-454c-87f1-d1b6ec22e430@events.stage.louisville.edu
DTSTAMP:20260424T162515Z
DTSTART:20280509T110000Z
DTEND:20280509T110000Z
SUMMARY:Testing Services
CONTACT:Tammy Jones-Scrogham\, 502-852-6606\, email:testing@louisville.edu
DESCRIPTION:Will you please add Testing Services as part of the offices lis
 ted in Davidson Hall?  Thank you!
URL:https://events.stage.louisville.edu/events/testing-services/2028-05-09
END:VEVENT
END:VCALENDAR