BEGIN:VCALENDAR
VERSION:2.0
PRODID:-//Drupal//recurring_events_ical//2.0//EN
BEGIN:VEVENT
UID:56a418c6-69c5-459a-aacc-8287c8e242be@events.stage.louisville.edu
DTSTAMP:20260424T185012Z
DTSTART:20280522T110000Z
DTEND:20280522T110000Z
SUMMARY:Testing Services
CONTACT:Tammy Jones-Scrogham\, 502-852-6606\, email:testing@louisville.edu
DESCRIPTION:Will you please add Testing Services as part of the offices lis
 ted in Davidson Hall?  Thank you!
URL:https://events.stage.louisville.edu/events/testing-services/2028-05-22
END:VEVENT
END:VCALENDAR