BEGIN:VCALENDAR
VERSION:2.0
PRODID:-//Drupal//recurring_events_ical//2.0//EN
BEGIN:VEVENT
UID:6f402c28-4f30-4b3b-96ba-0d2946028da9@events.stage.louisville.edu
DTSTAMP:20260424T175931Z
DTSTART:20280523T110000Z
DTEND:20280523T110000Z
SUMMARY:Testing Services
CONTACT:Tammy Jones-Scrogham\, 502-852-6606\, email:testing@louisville.edu
DESCRIPTION:Will you please add Testing Services as part of the offices lis
 ted in Davidson Hall?  Thank you!
URL:https://events.stage.louisville.edu/events/testing-services/2028-05-23
END:VEVENT
END:VCALENDAR