BEGIN:VCALENDAR
VERSION:2.0
PRODID:-//Drupal//recurring_events_ical//2.0//EN
BEGIN:VEVENT
UID:2fa099cc-1481-423b-bd36-b917e8d1b51e@events.stage.louisville.edu
DTSTAMP:20260424T162406Z
DTSTART:20280531T110000Z
DTEND:20280531T110000Z
SUMMARY:Testing Services
CONTACT:Tammy Jones-Scrogham\, 502-852-6606\, email:testing@louisville.edu
DESCRIPTION:Will you please add Testing Services as part of the offices lis
 ted in Davidson Hall?  Thank you!
URL:https://events.stage.louisville.edu/events/testing-services/2028-05-31
END:VEVENT
END:VCALENDAR