BEGIN:VCALENDAR
VERSION:2.0
PRODID:-//Drupal//recurring_events_ical//2.0//EN
BEGIN:VEVENT
UID:0c47f211-01c9-4e97-8232-9fd18933e417@events.stage.louisville.edu
DTSTAMP:20260424T162126Z
DTSTART:20280613T110000Z
DTEND:20280613T110000Z
SUMMARY:Testing Services
CONTACT:Tammy Jones-Scrogham\, 502-852-6606\, email:testing@louisville.edu
DESCRIPTION:Will you please add Testing Services as part of the offices lis
 ted in Davidson Hall?  Thank you!
URL:https://events.stage.louisville.edu/events/testing-services/2028-06-13
END:VEVENT
END:VCALENDAR