BEGIN:VCALENDAR
VERSION:2.0
PRODID:-//Drupal//recurring_events_ical//2.0//EN
BEGIN:VEVENT
UID:1867ee3a-5ba1-4a2b-9394-b9694a0a8f95@events.stage.louisville.edu
DTSTAMP:20260424T161939Z
DTSTART:20280628T110000Z
DTEND:20280628T110000Z
SUMMARY:Testing Services
CONTACT:Tammy Jones-Scrogham\, 502-852-6606\, email:testing@louisville.edu
DESCRIPTION:Will you please add Testing Services as part of the offices lis
 ted in Davidson Hall?  Thank you!
URL:https://events.stage.louisville.edu/events/testing-services/2028-06-28
END:VEVENT
END:VCALENDAR