BEGIN:VCALENDAR
VERSION:2.0
PRODID:-//Drupal//recurring_events_ical//2.0//EN
BEGIN:VEVENT
UID:f67c2a0a-7920-4200-8140-e7c10b41a130@events.stage.louisville.edu
DTSTAMP:20260424T162207Z
DTSTART:20280703T110000Z
DTEND:20280703T110000Z
SUMMARY:Testing Services
CONTACT:Tammy Jones-Scrogham\, 502-852-6606\, email:testing@louisville.edu
DESCRIPTION:Will you please add Testing Services as part of the offices lis
 ted in Davidson Hall?  Thank you!
URL:https://events.stage.louisville.edu/events/testing-services/2028-07-03
END:VEVENT
END:VCALENDAR