BEGIN:VCALENDAR
VERSION:2.0
PRODID:-//Drupal//recurring_events_ical//2.0//EN
BEGIN:VEVENT
UID:d21b635c-6179-4fa5-a5f2-9f17c8bfa19f@events.stage.louisville.edu
DTSTAMP:20260424T175743Z
DTSTART:20280705T110000Z
DTEND:20280705T110000Z
SUMMARY:Testing Services
CONTACT:Tammy Jones-Scrogham\, 502-852-6606\, email:testing@louisville.edu
DESCRIPTION:Will you please add Testing Services as part of the offices lis
 ted in Davidson Hall?  Thank you!
URL:https://events.stage.louisville.edu/events/testing-services/2028-07-05
END:VEVENT
END:VCALENDAR