BEGIN:VCALENDAR
VERSION:2.0
PRODID:-//Drupal//recurring_events_ical//2.0//EN
BEGIN:VEVENT
UID:0bcdde14-d318-45f8-bbb2-f9fc309858e2@events.stage.louisville.edu
DTSTAMP:20260424T162057Z
DTSTART:20280727T110000Z
DTEND:20280727T110000Z
SUMMARY:Testing Services
CONTACT:Tammy Jones-Scrogham\, 502-852-6606\, email:testing@louisville.edu
DESCRIPTION:Will you please add Testing Services as part of the offices lis
 ted in Davidson Hall?  Thank you!
URL:https://events.stage.louisville.edu/events/testing-services/2028-07-27
END:VEVENT
END:VCALENDAR