BEGIN:VCALENDAR
VERSION:2.0
PRODID:-//Drupal//recurring_events_ical//2.0//EN
BEGIN:VEVENT
UID:6af157f3-9486-4314-bc62-45a2e54e436f@events.stage.louisville.edu
DTSTAMP:20260424T175746Z
DTSTART:20280801T110000Z
DTEND:20280801T110000Z
SUMMARY:Testing Services
CONTACT:Tammy Jones-Scrogham\, 502-852-6606\, email:testing@louisville.edu
DESCRIPTION:Will you please add Testing Services as part of the offices lis
 ted in Davidson Hall?  Thank you!
URL:https://events.stage.louisville.edu/events/testing-services/2028-08-01
END:VEVENT
END:VCALENDAR