BEGIN:VCALENDAR
VERSION:2.0
PRODID:-//Drupal//recurring_events_ical//2.0//EN
BEGIN:VEVENT
UID:472c5cdc-6f55-4032-9764-ff591d81dfad@events.stage.louisville.edu
DTSTAMP:20260424T175907Z
DTSTART:20280803T110000Z
DTEND:20280803T110000Z
SUMMARY:Testing Services
CONTACT:Tammy Jones-Scrogham\, 502-852-6606\, email:testing@louisville.edu
DESCRIPTION:Will you please add Testing Services as part of the offices lis
 ted in Davidson Hall?  Thank you!
URL:https://events.stage.louisville.edu/events/testing-services/2028-08-03
END:VEVENT
END:VCALENDAR