BEGIN:VCALENDAR
VERSION:2.0
PRODID:-//Drupal//recurring_events_ical//2.0//EN
BEGIN:VEVENT
UID:b5c9e0c7-b57a-4c98-ae16-d965c8142898@events.stage.louisville.edu
DTSTAMP:20260424T161910Z
DTSTART:20280807T110000Z
DTEND:20280807T110000Z
SUMMARY:Testing Services
CONTACT:Tammy Jones-Scrogham\, 502-852-6606\, email:testing@louisville.edu
DESCRIPTION:Will you please add Testing Services as part of the offices lis
 ted in Davidson Hall?  Thank you!
URL:https://events.stage.louisville.edu/events/testing-services/2028-08-07
END:VEVENT
END:VCALENDAR