BEGIN:VCALENDAR
VERSION:2.0
PRODID:-//Drupal//recurring_events_ical//2.0//EN
BEGIN:VEVENT
UID:1b16ccd6-27fa-4640-a623-18cbb2501cc4@events.stage.louisville.edu
DTSTAMP:20260424T162232Z
DTSTART:20280814T110000Z
DTEND:20280814T110000Z
SUMMARY:Testing Services
CONTACT:Tammy Jones-Scrogham\, 502-852-6606\, email:testing@louisville.edu
DESCRIPTION:Will you please add Testing Services as part of the offices lis
 ted in Davidson Hall?  Thank you!
URL:https://events.stage.louisville.edu/events/testing-services/2028-08-14
END:VEVENT
END:VCALENDAR