BEGIN:VCALENDAR
VERSION:2.0
PRODID:-//Drupal//recurring_events_ical//2.0//EN
BEGIN:VEVENT
UID:120b59e4-e0ff-402a-ad93-86cd37ab300f@events.stage.louisville.edu
DTSTAMP:20260424T162144Z
DTSTART:20280830T110000Z
DTEND:20280830T110000Z
SUMMARY:Testing Services
CONTACT:Tammy Jones-Scrogham\, 502-852-6606\, email:testing@louisville.edu
DESCRIPTION:Will you please add Testing Services as part of the offices lis
 ted in Davidson Hall?  Thank you!
URL:https://events.stage.louisville.edu/events/testing-services/2028-08-30
END:VEVENT
END:VCALENDAR