BEGIN:VCALENDAR
VERSION:2.0
PRODID:-//Drupal//recurring_events_ical//2.0//EN
BEGIN:VEVENT
UID:a38c8323-6a39-4319-a019-804efd003d1e@events.stage.louisville.edu
DTSTAMP:20260424T175906Z
DTSTART:20280831T110000Z
DTEND:20280831T110000Z
SUMMARY:Testing Services
CONTACT:Tammy Jones-Scrogham\, 502-852-6606\, email:testing@louisville.edu
DESCRIPTION:Will you please add Testing Services as part of the offices lis
 ted in Davidson Hall?  Thank you!
URL:https://events.stage.louisville.edu/events/testing-services/2028-08-31
END:VEVENT
END:VCALENDAR