BEGIN:VCALENDAR
VERSION:2.0
PRODID:-//Drupal//recurring_events_ical//2.0//EN
BEGIN:VEVENT
UID:e9a2b693-b0a5-4980-8b28-916b8a635926@events.stage.louisville.edu
DTSTAMP:20260424T162547Z
DTSTART:20280914T110000Z
DTEND:20280914T110000Z
SUMMARY:Testing Services
CONTACT:Tammy Jones-Scrogham\, 502-852-6606\, email:testing@louisville.edu
DESCRIPTION:Will you please add Testing Services as part of the offices lis
 ted in Davidson Hall?  Thank you!
URL:https://events.stage.louisville.edu/events/testing-services/2028-09-14
END:VEVENT
END:VCALENDAR