BEGIN:VCALENDAR
VERSION:2.0
PRODID:-//Drupal//recurring_events_ical//2.0//EN
BEGIN:VEVENT
UID:1942ed82-262f-4efd-855d-f1d27a840247@events.stage.louisville.edu
DTSTAMP:20260424T162512Z
DTSTART:20280919T110000Z
DTEND:20280919T110000Z
SUMMARY:Testing Services
CONTACT:Tammy Jones-Scrogham\, 502-852-6606\, email:testing@louisville.edu
DESCRIPTION:Will you please add Testing Services as part of the offices lis
 ted in Davidson Hall?  Thank you!
URL:https://events.stage.louisville.edu/events/testing-services/2028-09-19
END:VEVENT
END:VCALENDAR