BEGIN:VCALENDAR
VERSION:2.0
PRODID:-//Drupal//recurring_events_ical//2.0//EN
BEGIN:VEVENT
UID:bf49146c-91aa-46bf-96ee-5646b01211c0@events.stage.louisville.edu
DTSTAMP:20260424T162504Z
DTSTART:20280920T110000Z
DTEND:20280920T110000Z
SUMMARY:Testing Services
CONTACT:Tammy Jones-Scrogham\, 502-852-6606\, email:testing@louisville.edu
DESCRIPTION:Will you please add Testing Services as part of the offices lis
 ted in Davidson Hall?  Thank you!
URL:https://events.stage.louisville.edu/events/testing-services/2028-09-20
END:VEVENT
END:VCALENDAR