BEGIN:VCALENDAR
VERSION:2.0
PRODID:-//Drupal//recurring_events_ical//2.0//EN
BEGIN:VEVENT
UID:35876c7d-8d02-47ae-945a-f5611cb52bd1@events.stage.louisville.edu
DTSTAMP:20260424T172947Z
DTSTART:20280927T110000Z
DTEND:20280927T110000Z
SUMMARY:Testing Services
CONTACT:Tammy Jones-Scrogham\, 502-852-6606\, email:testing@louisville.edu
DESCRIPTION:Will you please add Testing Services as part of the offices lis
 ted in Davidson Hall?  Thank you!
URL:https://events.stage.louisville.edu/events/testing-services/2028-09-27
END:VEVENT
END:VCALENDAR