BEGIN:VCALENDAR
VERSION:2.0
PRODID:-//Drupal//recurring_events_ical//2.0//EN
BEGIN:VEVENT
UID:f4fac605-cf03-48a5-9b81-30448979dae0@events.stage.louisville.edu
DTSTAMP:20260424T162608Z
DTSTART:20281002T110000Z
DTEND:20281002T110000Z
SUMMARY:Testing Services
CONTACT:Tammy Jones-Scrogham\, 502-852-6606\, email:testing@louisville.edu
DESCRIPTION:Will you please add Testing Services as part of the offices lis
 ted in Davidson Hall?  Thank you!
URL:https://events.stage.louisville.edu/events/testing-services/2028-10-02
END:VEVENT
END:VCALENDAR