BEGIN:VCALENDAR
VERSION:2.0
PRODID:-//Drupal//recurring_events_ical//2.0//EN
BEGIN:VEVENT
UID:437803d8-5c15-48ca-93a1-8dbe94dee4bf@events.stage.louisville.edu
DTSTAMP:20260424T175928Z
DTSTART:20281005T110000Z
DTEND:20281005T110000Z
SUMMARY:Testing Services
CONTACT:Tammy Jones-Scrogham\, 502-852-6606\, email:testing@louisville.edu
DESCRIPTION:Will you please add Testing Services as part of the offices lis
 ted in Davidson Hall?  Thank you!
URL:https://events.stage.louisville.edu/events/testing-services/2028-10-05
END:VEVENT
END:VCALENDAR