BEGIN:VCALENDAR
VERSION:2.0
PRODID:-//Drupal//recurring_events_ical//2.0//EN
BEGIN:VEVENT
UID:72a0d7db-08b1-4dad-a678-5853c4624c9e@events.stage.louisville.edu
DTSTAMP:20260424T162507Z
DTSTART:20281009T110000Z
DTEND:20281009T110000Z
SUMMARY:Testing Services
CONTACT:Tammy Jones-Scrogham\, 502-852-6606\, email:testing@louisville.edu
DESCRIPTION:Will you please add Testing Services as part of the offices lis
 ted in Davidson Hall?  Thank you!
URL:https://events.stage.louisville.edu/events/testing-services/2028-10-09
END:VEVENT
END:VCALENDAR