BEGIN:VCALENDAR
VERSION:2.0
PRODID:-//Drupal//recurring_events_ical//2.0//EN
BEGIN:VEVENT
UID:9ae68ef1-0a80-487f-8e60-80ffaf20c9c1@events.stage.louisville.edu
DTSTAMP:20260424T162352Z
DTSTART:20281017T110000Z
DTEND:20281017T110000Z
SUMMARY:Testing Services
CONTACT:Tammy Jones-Scrogham\, 502-852-6606\, email:testing@louisville.edu
DESCRIPTION:Will you please add Testing Services as part of the offices lis
 ted in Davidson Hall?  Thank you!
URL:https://events.stage.louisville.edu/events/testing-services/2028-10-17
END:VEVENT
END:VCALENDAR