BEGIN:VCALENDAR
VERSION:2.0
PRODID:-//Drupal//recurring_events_ical//2.0//EN
BEGIN:VEVENT
UID:91f07d57-7be1-4a5d-81aa-97cc30e7eb99@events.stage.louisville.edu
DTSTAMP:20260424T180614Z
DTSTART:20281023T110000Z
DTEND:20281023T110000Z
SUMMARY:Testing Services
CONTACT:Tammy Jones-Scrogham\, 502-852-6606\, email:testing@louisville.edu
DESCRIPTION:Will you please add Testing Services as part of the offices lis
 ted in Davidson Hall?  Thank you!
URL:https://events.stage.louisville.edu/events/testing-services/2028-10-23
END:VEVENT
END:VCALENDAR