BEGIN:VCALENDAR
VERSION:2.0
PRODID:-//Drupal//recurring_events_ical//2.0//EN
BEGIN:VEVENT
UID:21301911-2ab9-4465-8db1-adbb3d43696c@events.stage.louisville.edu
DTSTAMP:20260424T162403Z
DTSTART:20281025T110000Z
DTEND:20281025T110000Z
SUMMARY:Testing Services
CONTACT:Tammy Jones-Scrogham\, 502-852-6606\, email:testing@louisville.edu
DESCRIPTION:Will you please add Testing Services as part of the offices lis
 ted in Davidson Hall?  Thank you!
URL:https://events.stage.louisville.edu/events/testing-services/2028-10-25
END:VEVENT
END:VCALENDAR