BEGIN:VCALENDAR
VERSION:2.0
PRODID:-//Drupal//recurring_events_ical//2.0//EN
BEGIN:VEVENT
UID:05be0b56-844e-4191-b24e-bb8a8f9d938b@events.stage.louisville.edu
DTSTAMP:20260424T180012Z
DTSTART:20281026T110000Z
DTEND:20281026T110000Z
SUMMARY:Testing Services
CONTACT:Tammy Jones-Scrogham\, 502-852-6606\, email:testing@louisville.edu
DESCRIPTION:Will you please add Testing Services as part of the offices lis
 ted in Davidson Hall?  Thank you!
URL:https://events.stage.louisville.edu/events/testing-services/2028-10-26
END:VEVENT
END:VCALENDAR