BEGIN:VCALENDAR
VERSION:2.0
PRODID:-//Drupal//recurring_events_ical//2.0//EN
BEGIN:VEVENT
UID:2029a7c8-6599-443a-89ad-3300f122d706@events.stage.louisville.edu
DTSTAMP:20260424T175919Z
DTSTART:20281030T110000Z
DTEND:20281030T110000Z
SUMMARY:Testing Services
CONTACT:Tammy Jones-Scrogham\, 502-852-6606\, email:testing@louisville.edu
DESCRIPTION:Will you please add Testing Services as part of the offices lis
 ted in Davidson Hall?  Thank you!
URL:https://events.stage.louisville.edu/events/testing-services/2028-10-30
END:VEVENT
END:VCALENDAR