BEGIN:VCALENDAR
VERSION:2.0
PRODID:-//Drupal//recurring_events_ical//2.0//EN
BEGIN:VEVENT
UID:557cef08-20d9-4a72-90da-6248649aa5ab@events.stage.louisville.edu
DTSTAMP:20260424T162354Z
DTSTART:20281031T110000Z
DTEND:20281031T110000Z
SUMMARY:Testing Services
CONTACT:Tammy Jones-Scrogham\, 502-852-6606\, email:testing@louisville.edu
DESCRIPTION:Will you please add Testing Services as part of the offices lis
 ted in Davidson Hall?  Thank you!
URL:https://events.stage.louisville.edu/events/testing-services/2028-10-31
END:VEVENT
END:VCALENDAR