BEGIN:VCALENDAR
VERSION:2.0
PRODID:-//Drupal//recurring_events_ical//2.0//EN
BEGIN:VEVENT
UID:4c1e408b-e016-4a6a-b9c7-5b7fb6b38a50@events.stage.louisville.edu
DTSTAMP:20260424T162305Z
DTSTART:20281108T120000Z
DTEND:20281108T120000Z
SUMMARY:Testing Services
CONTACT:Tammy Jones-Scrogham\, 502-852-6606\, email:testing@louisville.edu
DESCRIPTION:Will you please add Testing Services as part of the offices lis
 ted in Davidson Hall?  Thank you!
URL:https://events.stage.louisville.edu/events/testing-services/2028-11-08
END:VEVENT
END:VCALENDAR