BEGIN:VCALENDAR
VERSION:2.0
PRODID:-//Drupal//recurring_events_ical//2.0//EN
BEGIN:VEVENT
UID:a445b9b9-e497-4933-b035-0fac205eb3cd@events.stage.louisville.edu
DTSTAMP:20260424T180015Z
DTSTART:20281123T120000Z
DTEND:20281123T120000Z
SUMMARY:Testing Services
CONTACT:Tammy Jones-Scrogham\, 502-852-6606\, email:testing@louisville.edu
DESCRIPTION:Will you please add Testing Services as part of the offices lis
 ted in Davidson Hall?  Thank you!
URL:https://events.stage.louisville.edu/events/testing-services/2028-11-23
END:VEVENT
END:VCALENDAR