BEGIN:VCALENDAR
VERSION:2.0
PRODID:-//Drupal//recurring_events_ical//2.0//EN
BEGIN:VEVENT
UID:48409ed0-fdbf-4691-a95f-bbbe7b3422cc@events.stage.louisville.edu
DTSTAMP:20260424T180017Z
DTSTART:20281130T120000Z
DTEND:20281130T120000Z
SUMMARY:Testing Services
CONTACT:Tammy Jones-Scrogham\, 502-852-6606\, email:testing@louisville.edu
DESCRIPTION:Will you please add Testing Services as part of the offices lis
 ted in Davidson Hall?  Thank you!
URL:https://events.stage.louisville.edu/events/testing-services/2028-11-30
END:VEVENT
END:VCALENDAR