BEGIN:VCALENDAR
VERSION:2.0
PRODID:-//Drupal//recurring_events_ical//2.0//EN
BEGIN:VEVENT
UID:07f5b8e7-b014-41db-ab42-98c80147f3aa@events.stage.louisville.edu
DTSTAMP:20260424T180045Z
DTSTART:20281211T120000Z
DTEND:20281211T120000Z
SUMMARY:Testing Services
CONTACT:Tammy Jones-Scrogham\, 502-852-6606\, email:testing@louisville.edu
DESCRIPTION:Will you please add Testing Services as part of the offices lis
 ted in Davidson Hall?  Thank you!
URL:https://events.stage.louisville.edu/events/testing-services/2028-12-11
END:VEVENT
END:VCALENDAR