BEGIN:VCALENDAR
VERSION:2.0
PRODID:-//Drupal//recurring_events_ical//2.0//EN
BEGIN:VEVENT
UID:269df131-b4fa-4768-b119-18b03241d80a@events.stage.louisville.edu
DTSTAMP:20260424T162538Z
DTSTART:20281221T120000Z
DTEND:20281221T120000Z
SUMMARY:Testing Services
CONTACT:Tammy Jones-Scrogham\, 502-852-6606\, email:testing@louisville.edu
DESCRIPTION:Will you please add Testing Services as part of the offices lis
 ted in Davidson Hall?  Thank you!
URL:https://events.stage.louisville.edu/events/testing-services/2028-12-21
END:VEVENT
END:VCALENDAR