BEGIN:VCALENDAR
VERSION:2.0
PRODID:-//Drupal//recurring_events_ical//2.0//EN
BEGIN:VEVENT
UID:8c37cc2e-4d55-48a6-b34c-8bf8b089d7b2@events.stage.louisville.edu
DTSTAMP:20260424T175919Z
DTSTART:20281228T120000Z
DTEND:20281228T120000Z
SUMMARY:Testing Services
CONTACT:Tammy Jones-Scrogham\, 502-852-6606\, email:testing@louisville.edu
DESCRIPTION:Will you please add Testing Services as part of the offices lis
 ted in Davidson Hall?  Thank you!
URL:https://events.stage.louisville.edu/events/testing-services/2028-12-28
END:VEVENT
END:VCALENDAR