BEGIN:VCALENDAR
VERSION:2.0
PRODID:-//Drupal//recurring_events_ical//2.0//EN
BEGIN:VEVENT
UID:80f44a39-349f-4b94-bbf7-32fd258a53a8@events.stage.louisville.edu
DTSTAMP:20260424T162117Z
DTSTART:20290109T120000Z
DTEND:20290109T120000Z
SUMMARY:Testing Services
CONTACT:Tammy Jones-Scrogham\, 502-852-6606\, email:testing@louisville.edu
DESCRIPTION:Will you please add Testing Services as part of the offices lis
 ted in Davidson Hall?  Thank you!
URL:https://events.stage.louisville.edu/events/testing-services/2029-01-09
END:VEVENT
END:VCALENDAR