BEGIN:VCALENDAR
VERSION:2.0
PRODID:-//Drupal//recurring_events_ical//2.0//EN
BEGIN:VEVENT
UID:b534db6f-a343-49d9-8d03-5655e519b818@events.stage.louisville.edu
DTSTAMP:20260424T161954Z
DTSTART:20290111T120000Z
DTEND:20290111T120000Z
SUMMARY:Testing Services
CONTACT:Tammy Jones-Scrogham\, 502-852-6606\, email:testing@louisville.edu
DESCRIPTION:Will you please add Testing Services as part of the offices lis
 ted in Davidson Hall?  Thank you!
URL:https://events.stage.louisville.edu/events/testing-services/2029-01-11
END:VEVENT
END:VCALENDAR