BEGIN:VCALENDAR
VERSION:2.0
PRODID:-//Drupal//recurring_events_ical//2.0//EN
BEGIN:VEVENT
UID:7f0c6ad7-38c8-4a67-9208-7a2a14416552@events.stage.louisville.edu
DTSTAMP:20260424T162031Z
DTSTART:20290206T120000Z
DTEND:20290206T120000Z
SUMMARY:Testing Services
CONTACT:Tammy Jones-Scrogham\, 502-852-6606\, email:testing@louisville.edu
DESCRIPTION:Will you please add Testing Services as part of the offices lis
 ted in Davidson Hall?  Thank you!
URL:https://events.stage.louisville.edu/events/testing-services/2029-02-06
END:VEVENT
END:VCALENDAR