BEGIN:VCALENDAR
VERSION:2.0
PRODID:-//Drupal//recurring_events_ical//2.0//EN
BEGIN:VEVENT
UID:b954e785-4705-40d8-87da-e95b3e7f3e4e@events.stage.louisville.edu
DTSTAMP:20260424T162016Z
DTSTART:20290208T120000Z
DTEND:20290208T120000Z
SUMMARY:Testing Services
CONTACT:Tammy Jones-Scrogham\, 502-852-6606\, email:testing@louisville.edu
DESCRIPTION:Will you please add Testing Services as part of the offices lis
 ted in Davidson Hall?  Thank you!
URL:https://events.stage.louisville.edu/events/testing-services/2029-02-08
END:VEVENT
END:VCALENDAR