BEGIN:VCALENDAR
VERSION:2.0
PRODID:-//Drupal//recurring_events_ical//2.0//EN
BEGIN:VEVENT
UID:623e8a41-7d55-4b72-91f3-8ae6d03d9ae2@events.stage.louisville.edu
DTSTAMP:20260424T162322Z
DTSTART:20290214T120000Z
DTEND:20290214T120000Z
SUMMARY:Testing Services
CONTACT:Tammy Jones-Scrogham\, 502-852-6606\, email:testing@louisville.edu
DESCRIPTION:Will you please add Testing Services as part of the offices lis
 ted in Davidson Hall?  Thank you!
URL:https://events.stage.louisville.edu/events/testing-services/2029-02-14
END:VEVENT
END:VCALENDAR