BEGIN:VCALENDAR
VERSION:2.0
PRODID:-//Drupal//recurring_events_ical//2.0//EN
BEGIN:VEVENT
UID:8e6f3404-fb81-4f25-badf-e84333c63d4a@events.stage.louisville.edu
DTSTAMP:20260424T162231Z
DTSTART:20290215T120000Z
DTEND:20290215T120000Z
SUMMARY:Testing Services
CONTACT:Tammy Jones-Scrogham\, 502-852-6606\, email:testing@louisville.edu
DESCRIPTION:Will you please add Testing Services as part of the offices lis
 ted in Davidson Hall?  Thank you!
URL:https://events.stage.louisville.edu/events/testing-services/2029-02-15
END:VEVENT
END:VCALENDAR