BEGIN:VCALENDAR
VERSION:2.0
PRODID:-//Drupal//recurring_events_ical//2.0//EN
BEGIN:VEVENT
UID:a35790ab-6c5a-4fb2-a50f-5f293e4a3205@events.stage.louisville.edu
DTSTAMP:20260424T184954Z
DTSTART:20290222T120000Z
DTEND:20290222T120000Z
SUMMARY:Testing Services
CONTACT:Tammy Jones-Scrogham\, 502-852-6606\, email:testing@louisville.edu
DESCRIPTION:Will you please add Testing Services as part of the offices lis
 ted in Davidson Hall?  Thank you!
URL:https://events.stage.louisville.edu/events/testing-services/2029-02-22
END:VEVENT
END:VCALENDAR