BEGIN:VCALENDAR
VERSION:2.0
PRODID:-//Drupal//recurring_events_ical//2.0//EN
BEGIN:VEVENT
UID:07bed5f1-6363-432d-8685-c0ab98d35e64@events.stage.louisville.edu
DTSTAMP:20260424T175733Z
DTSTART:20290301T120000Z
DTEND:20290301T120000Z
SUMMARY:Testing Services
CONTACT:Tammy Jones-Scrogham\, 502-852-6606\, email:testing@louisville.edu
DESCRIPTION:Will you please add Testing Services as part of the offices lis
 ted in Davidson Hall?  Thank you!
URL:https://events.stage.louisville.edu/events/testing-services/2029-03-01
END:VEVENT
END:VCALENDAR