BEGIN:VCALENDAR
VERSION:2.0
PRODID:-//Drupal//recurring_events_ical//2.0//EN
BEGIN:VEVENT
UID:6ee0b948-7d26-430c-b41d-006cfa5b82c4@events.stage.louisville.edu
DTSTAMP:20260424T175733Z
DTSTART:20290306T120000Z
DTEND:20290306T120000Z
SUMMARY:Testing Services
CONTACT:Tammy Jones-Scrogham\, 502-852-6606\, email:testing@louisville.edu
DESCRIPTION:Will you please add Testing Services as part of the offices lis
 ted in Davidson Hall?  Thank you!
URL:https://events.stage.louisville.edu/events/testing-services/2029-03-06
END:VEVENT
END:VCALENDAR