BEGIN:VCALENDAR
VERSION:2.0
PRODID:-//Drupal//recurring_events_ical//2.0//EN
BEGIN:VEVENT
UID:ead7b8f7-0801-4b60-8119-27b67a801163@events.stage.louisville.edu
DTSTAMP:20260424T162132Z
DTSTART:20290319T110000Z
DTEND:20290319T110000Z
SUMMARY:Testing Services
CONTACT:Tammy Jones-Scrogham\, 502-852-6606\, email:testing@louisville.edu
DESCRIPTION:Will you please add Testing Services as part of the offices lis
 ted in Davidson Hall?  Thank you!
URL:https://events.stage.louisville.edu/events/testing-services/2029-03-19
END:VEVENT
END:VCALENDAR