BEGIN:VCALENDAR
VERSION:2.0
PRODID:-//Drupal//recurring_events_ical//2.0//EN
BEGIN:VEVENT
UID:c89d79d2-63f0-4987-b239-48db1efb248c@events.stage.louisville.edu
DTSTAMP:20260424T180052Z
DTSTART:20290321T110000Z
DTEND:20290321T110000Z
SUMMARY:Testing Services
CONTACT:Tammy Jones-Scrogham\, 502-852-6606\, email:testing@louisville.edu
DESCRIPTION:Will you please add Testing Services as part of the offices lis
 ted in Davidson Hall?  Thank you!
URL:https://events.stage.louisville.edu/events/testing-services/2029-03-21
END:VEVENT
END:VCALENDAR