BEGIN:VCALENDAR
VERSION:2.0
PRODID:-//Drupal//recurring_events_ical//2.0//EN
BEGIN:VEVENT
UID:ec948c38-42dd-4464-ad4f-89605be413fe@events.stage.louisville.edu
DTSTAMP:20260424T161942Z
DTSTART:20290322T110000Z
DTEND:20290322T110000Z
SUMMARY:Testing Services
CONTACT:Tammy Jones-Scrogham\, 502-852-6606\, email:testing@louisville.edu
DESCRIPTION:Will you please add Testing Services as part of the offices lis
 ted in Davidson Hall?  Thank you!
URL:https://events.stage.louisville.edu/events/testing-services/2029-03-22
END:VEVENT
END:VCALENDAR